BEGIN:VCALENDAR
PRODID:-//Trumba Corporation//Trumba Calendar Services 0.11.25515//EN
VERSION:2.0
CALSCALE:GREGORIAN
X-WR-CALNAME:Student Events
X-WR-TIMEZONE:America/New_York
METHOD:PUBLISH
BEGIN:VTIMEZONE
TZID:America/New_York
BEGIN:STANDARD
TZOFFSETFROM:-0400
TZOFFSETTO:-0500
TZNAME:EST
DTSTART:20071104T020000
RRULE:FREQ=YEARLY;BYMONTH=11;BYDAY=1SU
END:STANDARD
BEGIN:DAYLIGHT
TZOFFSETFROM:-0500
TZOFFSETTO:-0400
TZNAME:EDT
DTSTART:20070311T020000
RRULE:FREQ=YEARLY;BYMONTH=3;BYDAY=2SU
END:DAYLIGHT
END:VTIMEZONE
BEGIN:VEVENT
SUMMARY:The Ultimate Car Club&#39\;s Spring Car Show
LOCATION:TBD\, Omwake-Dearborn Chapel Lawn
DTSTART;TZID=America/New_York:20260425T150000
DTEND;TZID=America/New_York:20260425T170000
X-MICROSOFT-CDO-ALLDAYEVENT:FALSE
X-TRUMBA-CUSTOMFIELD;NAME="Event Type";ID=12;TYPE=number:Student - Enter
 tainment
X-TRUMBA-CUSTOMFIELD;NAME="Detail image";ID=41;TYPE=Image:<a href="https
 ://25livepub.collegenet.com/i/DgCO9meOIjCGldiW4bNwu%2AqN.jpg" target="_b
 lank" rel="noopener" title="https://25livepub.collegenet.com/i/DgCO9meOI
 jCGldiW4bNwu%2AqN.jpg">25livepub.collegenet.com&#8230\;</a>
X-TRUMBA-CUSTOMFIELD;NAME="Event image";ID=42;TYPE=Image:<a href="https:
 //25livepub.collegenet.com/i/DgCO9meOIjCGldiW4bNwu%2AqN.jpg" target="_bl
 ank" rel="noopener" title="https://25livepub.collegenet.com/i/DgCO9meOIj
 CGldiW4bNwu%2AqN.jpg">25livepub.collegenet.com&#8230\;</a>
DTSTAMP:20260424T165651Z
DESCRIPTION:<br><p>The Ultimate Car Club&#39\;s Spring Car Show will tak
 e place on April 25th from 3 p.m. to 5 p.m. at the Omwake Dearborn Chape
 l parking lot. There will be music\, food\, and entertainment. Catawba&#
 39\;s Solar Racing Team will also be participating in this event. Entry 
 is free to this event and all cars are welcome.</p>
CATEGORIES:Student Events
IMAGE;VALUE=URI:https://25livepub.collegenet.com/i/DgCO9meOIjCGldiW4bNwu
 %2AqN.jpg
UID:http://uid.trumba.com/event/1388544650
X-TRUMBA-LINK:https://25livepub.collegenet.com/calendars/catawba-student
 -events?eventid=1388544650
END:VEVENT
BEGIN:VEVENT
SUMMARY:Dunk the Dean
LOCATION:Cannon Stanback Plaza
DTSTART;TZID=America/New_York:20260425T190000
DTEND;TZID=America/New_York:20260425T200000
X-MICROSOFT-CDO-ALLDAYEVENT:FALSE
CATEGORIES:Student Events
IMAGE;VALUE=URI:https://25livepub.collegenet.com/i/DgBn5IKwZLyDHOmUDsN8Y
 o3I.jpg
DTSTAMP:20260424T165651Z
GEO:35.6916;-80.4836
DESCRIPTION:<br><p><strong>Take your shot. Make a Splash!</strong></p> <
 p>Come by the Dunk the Dean event on April 25 at 7pm and take your shot 
 during Palooza week.</p>
X-TRUMBA-CUSTOMFIELD;NAME="Event Type";ID=12;TYPE=number:Student - Enter
 tainment
X-TRUMBA-CUSTOMFIELD;NAME="Detail image";ID=41;TYPE=Image:<a href="https
 ://25livepub.collegenet.com/i/DgBn5IKwZLyDHOmUDsN8Yo3I.jpg" target="_bla
 nk" rel="noopener" title="https://25livepub.collegenet.com/i/DgBn5IKwZLy
 DHOmUDsN8Yo3I.jpg">25livepub.collegenet.com&#8230\;</a>
X-TRUMBA-CUSTOMFIELD;NAME="Event image";ID=42;TYPE=Image:<a href="https:
 //25livepub.collegenet.com/i/DgBn5IKwZLyDHOmUDsN8Yo3I.jpg" target="_blan
 k" rel="noopener" title="https://25livepub.collegenet.com/i/DgBn5IKwZLyD
 HOmUDsN8Yo3I.jpg">25livepub.collegenet.com&#8230\;</a>
UID:http://uid.trumba.com/event/1390236312
X-TRUMBA-LINK:https://25livepub.collegenet.com/calendars/catawba-student
 -events?eventid=1390236312
END:VEVENT
BEGIN:VEVENT
SUMMARY:Palooza Day: Block Party Edition
LOCATION:Beach Volleyball Courts
DTSTART;TZID=America/New_York:20260425T190000
DTEND;TZID=America/New_York:20260425T220000
X-MICROSOFT-CDO-ALLDAYEVENT:FALSE
X-TRUMBA-CUSTOMFIELD;NAME="Event Type";ID=12;TYPE=number:Student - Enter
 tainment
X-TRUMBA-CUSTOMFIELD;NAME="Detail image";ID=41;TYPE=Image:<a href="https
 ://25livepub.collegenet.com/i/DgBXIniskRi5DH5xAHF38hjK.jpg" target="_bla
 nk" rel="noopener" title="https://25livepub.collegenet.com/i/DgBXIniskRi
 5DH5xAHF38hjK.jpg">25livepub.collegenet.com&#8230\;</a>
X-TRUMBA-CUSTOMFIELD;NAME="Event image";ID=42;TYPE=Image:<a href="https:
 //25livepub.collegenet.com/i/DgBXIniskRi5DH5xAHF38hjK.jpg" target="_blan
 k" rel="noopener" title="https://25livepub.collegenet.com/i/DgBXIniskRi5
 DH5xAHF38hjK.jpg">25livepub.collegenet.com&#8230\;</a>
DTSTAMP:20260424T165651Z
DESCRIPTION:<br>Palooza Day: Block Party Edition<br>Get ready for an unf
 orgettable Palooza Day as we transform the area behind Goodman Gymnasium
  in the solar-powered staff parking lot into a high-energy\, block party
 &#8211\;style celebration! This year&#8217\;s event is all about bringin
 g the campus together through fun\, food\, and friendly competition.<br>
 Enjoy a vibrant atmosphere featuring live activity zones with volleyball
  and basketball activation\, giving students a chance to jump in\, compe
 te\, and connect. We&#8217\;ll also have three inflatable attractions to
  keep the energy high throughout the day.<br>Come hungry and explore a v
 ariety of food trucks serving up delicious options while you vibe with f
 riends and soak in the festivities.<br>Don&#8217\;t miss your chance to 
 participate in crowd-favorite activities like Dunk the Dean\, where you 
 can take your shot at making a splash!<br>We&#8217\;ll also be distribut
 ing our remaining Palooza shirts\, so be sure to grab yours while suppli
 es last.<br>Bring your friends\, rep your school spirit\, and experience
  Palooza Day like never before!
CATEGORIES:Student Events
IMAGE;VALUE=URI:https://25livepub.collegenet.com/i/DgBXIniskRi5DH5xAHF38
 hjK.jpg
UID:http://uid.trumba.com/event/1379733875
X-TRUMBA-LINK:https://25livepub.collegenet.com/calendars/catawba-student
 -events?eventid=1379733875
END:VEVENT
END:VCALENDAR
